BEGIN:VCALENDAR
VERSION:2.0
PRODID:-//Tukios.com/
BEGIN:VEVENT
UID:cec48d9d-b4fd-472a-b256-497518c1912b@www.millermortuary.net
DTSTAMP:20260422T194345Z
DTSTART:20260501T153000Z
DTEND:20260501T163000Z
SUMMARY:Graveside Service
DESCRIPTION:
URL:https://www.millermortuary.net/obituaries/johnny-norton
LOCATION:Moscow Cemetery Coordinates: 37.33940, -101.19170  Moscow KS 
	67952
GEO:37.3245235;-101.2084633
END:VEVENT
END:VCALENDAR